Workbook

Sheet 1 обосн НМЦК
A1: Обоснование начальной (максимальной) цены контракта (НМЦК)
A2: Поставка канцелярских товаров
C3: Анализ рынка (без РТ и без нормир)
A4: 1 | B4: Основные характеристики объекта закупки | C4: Указаны в приложении №1
A5: 2 | B5: Используемый метод определения начальной (максимальной) цены контракта | C5: Метод сопоставимых рыночных цен (анализ рынка) в соответствии со ст.22 Закона № 44-ФЗ с учетом Методических рекомендаций по применению методов определения НМЦК, утвержденных приказом МЭР России от 02.10.2013 № 567 (далее – Методические рекомендации №567)
A6: 3 | B6: Порядок формирования начальной (максимальной) цены контракта | C6: Применен п. 3.7 раздела III Методических рекомендаций №567
A7: 4 | B7: Начальная (максимальная) цена контракта, руб. (Обоснование и расчет представлены в Приложении №1.1) | C7: ='НМЦК общее'!W61 -> 209990.26
A8: Дата подготовки обоснования НМЦК: ___.___. 2023г.
B10: Работник контрактной службы
A12: Начальник отдела закупок | C12: ___________ /Д.В. Саввин
B14: ___.___. 2024г.
B16: Исполнитель: А.И. Нестеренко контактный тел. 404-60-62

Sheet НМЦК общее
F1: Обоснование и расчет НМЦК
A3: ОКПД2/КТРУ1 | C3: ККН2 | E3: Единица измерения | F3: № п/п | G3: Наименование товара (работы, услуги) | I3: Номер источника ценовой информации (ИЦИ №i)* и цена единицы товара, работы, услуги, представленная i-тым ИЦИ (Цi), руб. | N3: Средняя цена из Реестра товаров**, включая НДС, руб. на 01.04.2023 | O3: предельная цена единицы товара, работы, услуги, установленная в рамках нормирования в сфере закупок*** | Q3: v - кол-во (объем) закупаемого товара (работы, услуги), ед. | R3: n - кол-во значений, используемых в расчете | S3: Определение однородности совокупности значений выявленных цен | V3: Цена единицы продукции, принятая для расчета НМЦК | W3: НМЦК, руб.
A4: код | B4: наименование | C4: код | D4: наименование | I4: ИЦИ №1 | J4: ИЦИ №2 | K4: ИЦИ №3 | L4: ИЦИ №4 | M4: ИЦИ №5 | S4: <ц> - средн. арифм. величина цены единицы прод-ции, руб. | T4: Среднее квадратичное отклонение | U4: V - коэф-нт вариации (не должен превышать 33%)
F5: 1 | G5: 2 | I5: 3 | J5: 4 | K5: 5 | L5: 6 | M5: 7 | N5: 8а | O5: 8б | P5: 9=3+4+5+6+7+8а | Q5: 10 | R5: 11 = кол-во ИЦИ | S5: 12= /n | T5: 13 | U5: 14 | V5: 12а | W5: 15=12а*10 | Y5: =W61+' НМЦК 2 желтый'!Q36+' НМЦК 3 зеленый'!Q34+'НМЦК 4 синий'!Q6 -> 441285.82
F6: 1 | G6: Ежедневник | H6: 17.23.13.191-017 | I6: 566.77 | J6: 573.39 | K6: 599.85 | O6: 942.67 | P6: =I6+J6+K6+L6+M6+N6 -> 1740.01 | Q6: 30 | R6: 3 | S6: =IF(ISERR(AVERAGE(I6:N6)),"",AVERAGE(I6:N6)) -> 580 | T6: =IF(ISERR(STDEV(I6:N6)),"",STDEV(I6:N6)) -> 17.5 | U6: =IF(ISERR(T6/S6),"",T6/S6) -> 0.03 | V6: =MIN(O6,S6) -> 580 | W6: =V6*Q6 -> 17400 | X6: 580 | Y6: =K6*Q6 -> 17995.5 | AG6: =I6*Q6 -> 17003.1 | AH6: =J6*Q6 -> 17201.7 | AI6: =K6*Q6 -> 17995.5 | AK6: 13.23
F7: 2 | G7: Блоки для записей тип 1 | H7: 17.23.13.199-008 | I7: 55.6 | J7: 57.8 | K7: 66.55 | O7: 146.5 | P7: =I7+J7+K7+L7+M7+N7 -> 179.95 | Q7: 90 | R7: 3 | S7: =IF(ISERR(AVERAGE(I7:N7)),"",AVERAGE(I7:N7)) -> 59.98 | T7: =IF(ISERR(STDEV(I7:N7)),"",STDEV(I7:N7)) -> 5.79 | U7: =IF(ISERR(T7/S7),"",T7/S7) -> 0.097 | V7: =MIN(O7,S7) -> 59.98 | W7: =V7*Q7 -> 5398.2 | X7: 60 | Y7: =K7*Q7 -> 5989.5 | AG7: =I7*Q7 -> 5004 | AH7: =J7*Q7 -> 5202 | AI7: =K7*Q7 -> 5989.5 | AK7: 4.36
F8: 3 | G8: Блоки для записей тип 7 | H8: 17.23.13.199-014 | I8: 75.2 | J8: 76.61 | K8: 82.14 | O8: 136.94 | P8: =I8+J8+K8+L8+M8+N8 -> 233.95 | Q8: 90 | R8: 3 | S8: =IF(ISERR(AVERAGE(I8:N8)),"",AVERAGE(I8:N8)) -> 77.98 | T8: =IF(ISERR(STDEV(I8:N8)),"",STDEV(I8:N8)) -> 3.67 | U8: =IF(ISERR(T8/S8),"",T8/S8) -> 0.047 | V8: =MIN(O8,S8) -> 77.98 | W8: =V8*Q8 -> 7018.2 | X8: 78 | Y8: =K8*Q8 -> 7392.6 | AG8: =I8*Q8 -> 6768 | AH8: =J8*Q8 -> 6894.9 | AI8: =K8*Q8 -> 7392.6 | AK8: 2.78
F9: 4 | G9: Блоки для записей тип 6 | H9: 17.23.13.199-013 | I9: 98.67 | J9: 99.34 | K9: 102 | O9: 159.71 | P9: =I9+J9+K9+L9+M9+N9 -> 300.01 | Q9: 50 | R9: 3 | S9: =IF(ISERR(AVERAGE(I9:N9)),"",AVERAGE(I9:N9)) -> 100 | T9: =IF(ISERR(STDEV(I9:N9)),"",STDEV(I9:N9)) -> 1.76 | U9: =IF(ISERR(T9/S9),"",T9/S9) -> 0.018 | V9: =MIN(O9,S9) -> 100 | W9: =V9*Q9 -> 5000 | X9: 100 | Y9: =K9*Q9 -> 5100 | AG9: =I9*Q9 -> 4933.5 | AH9: =J9*Q9 -> 4967 | AI9: =K9*Q9 -> 5100 | AK9: 1.33
F10: 5 | G10: Клейкие закладки бумажные тип 1 | H10: 17.23.13.199-023 | I10: 71.72 | J10: 73.35 | K10: 79.9 | O10: 203.03 | P10: =I10+J10+K10+L10+M10+N10 -> 224.97 | Q10: 80 | R10: 3 | S10: =IF(ISERR(AVERAGE(I10:N10)),"",AVERAGE(I10:N10)) -> 74.99 | T10: =IF(ISERR(STDEV(I10:N10)),"",STDEV(I10:N10)) -> 4.33 | U10: =IF(ISERR(T10/S10),"",T10/S10) -> 0.058 | V10: =MIN(O10,S10) -> 74.99 | W10: =V10*Q10 -> 5999.2 | X10: 75 | Y10: =K10*Q10 -> 6392 | AG10: =I10*Q10 -> 5737.6 | AH10: =J10*Q10 -> 5868 | AI10: =K10*Q10 -> 6392 | AK10: 3.28
F11: 6 | G11: Клейкие закладки пластиковые тип 4 | H11: 22.29.25.000-140 | I11: 139.71 | J11: 139.85 | K11: 140.55 | O11: 259.11 | P11: =I11+J11+K11+L11+M11+N11 -> 420.11 | Q11: 80 | R11: 3 | S11: =IF(ISERR(AVERAGE(I11:N11)),"",AVERAGE(I11:N11)) -> 140.04 | T11: =IF(ISERR(STDEV(I11:N11)),"",STDEV(I11:N11)) -> 0.45 | U11: =IF(ISERR(T11/S11),"",T11/S11) -> 0.003 | V11: =MIN(O11,S11) -> 140.04 | W11: =V11*Q11 -> 11203.2 | X11: 140 | Y11: =K11*Q11 -> 11244 | AG11: =I11*Q11 -> 11176.8 | AH11: =J11*Q11 -> 11188 | AI11: =K11*Q11 -> 11244 | AK11: 0.29
F12: 7 | G12: Клейкие закладки пластиковые тип 1 | H12: 22.29.25.000-137 | I12: 63.43 | J12: 64.2 | K12: 67.35 | O12: 104.2 | P12: =I12+J12+K12+L12+M12+N12 -> 194.98 | Q12: 80 | R12: 3 | S12: =IF(ISERR(AVERAGE(I12:N12)),"",AVERAGE(I12:N12)) -> 64.99 | T12: =IF(ISERR(STDEV(I12:N12)),"",STDEV(I12:N12)) -> 2.08 | U12: =IF(ISERR(T12/S12),"",T12/S12) -> 0.032 | V12: =MIN(O12,S12) -> 64.99 | W12: =V12*Q12 -> 5199.2 | X12: 65 | Y12: =K12*Q12 -> 5388 | AC12: 0.15 | AG12: =I12*Q12 -> 5074.4 | AH12: =J12*Q12 -> 5136 | AI12: =K12*Q12 -> 5388 | AK12: 1.57
F13: 8 | G13: Средство корректирующее канцелярское тип 1 | H13: 20.59.59.900-094 | I13: 39.1 | J13: 39.55 | K13: 41.3 | O13: 83.71 | P13: =I13+J13+K13+L13+M13+N13 -> 119.95 | Q13: 50 | R13: 3 | S13: =IF(ISERR(AVERAGE(I13:N13)),"",AVERAGE(I13:N13)) -> 39.98 | T13: =IF(ISERR(STDEV(I13:N13)),"",STDEV(I13:N13)) -> 1.16 | U13: =IF(ISERR(T13/S13),"",T13/S13) -> 0.029 | V13: =MIN(O13,S13) -> 39.98 | W13: =V13*Q13 -> 1999 | X13: 40 | Y13: =K13*Q13 -> 2065 | AG13: =I13*Q13 -> 1955 | AH13: =J13*Q13 -> 1977.5 | AI13: =K13*Q13 -> 2065 | AK13: 0.91
F14: 9 | G14: Папка пластиковая тип 20 | H14: 22.29.25.000-067 | I14: 91 | J14: 89.56 | K14: 90.28 | O14: 90.28 | P14: =I14+J14+K14+L14+M14+N14 -> 270.84 | Q14: 57 | R14: 3 | S14: =IF(ISERR(AVERAGE(I14:N14)),"",AVERAGE(I14:N14)) -> 90.28 | T14: =IF(ISERR(STDEV(I14:N14)),"",STDEV(I14:N14)) -> 0.72 | U14: =IF(ISERR(T14/S14),"",T14/S14) -> 0.008 | V14: =MIN(O14,S14) -> 90.28 | W14: =V14*Q14 -> 5145.96 | X14: 14 | Y14: =K14*Q14 -> 5145.96 | AG14: =I14*Q14 -> 5187 | AH14: =J14*Q14 -> 5104.92 | AI14: =K14*Q14 -> 5145.96 | AK14: 1.55
F15: 10 | G15: Папка пластиковая тип 26 | H15: 22.29.25.000-086 | I15: 12.45 | J15: 13.65 | K15: 16.3 | O15: 34.34 | P15: =I15+J15+K15+L15+M15+N15 -> 42.4 | Q15: 200 | R15: 3 | S15: =IF(ISERR(AVERAGE(I15:N15)),"",AVERAGE(I15:N15)) -> 14.13 | T15: =IF(ISERR(STDEV(I15:N15)),"",STDEV(I15:N15)) -> 1.97 | U15: =IF(ISERR(T15/S15),"",T15/S15) -> 0.139 | V15: =MIN(O15,S15) -> 14.13 | W15: =V15*Q15 -> 2826 | X15: 250 | Y15: =K15*Q15 -> 3260 | AG15: =I15*Q15 -> 2490 | AH15: =J15*Q15 -> 2730 | AI15: =K15*Q15 -> 3260 | AK15: 9.35
F16: 11 | G16: Файл-вкладыш тип 1 | H16: 22.29.25.000-022 | I16: 340.3 | J16: 345.3 | K16: 364.45 | O16: 547.37 | P16: =I16+J16+K16+L16+M16+N16 -> 1050.05 | Q16: 100 | R16: 3 | S16: =IF(ISERR(AVERAGE(I16:N16)),"",AVERAGE(I16:N16)) -> 350.02 | T16: =IF(ISERR(STDEV(I16:N16)),"",STDEV(I16:N16)) -> 12.75 | U16: =IF(ISERR(T16/S16),"",T16/S16) -> 0.036 | V16: =MIN(O16,S16) -> 350.02 | W16: =V16*Q16 -> 35002 | X16: 350 | Y16: =K16*Q16 -> 36445 | AG16: =I16*Q16 -> 34030 | AH16: =J16*Q16 -> 34530 | AI16: =K16*Q16 -> 36445 | AK16: 9.64
F17: 12 | G17: Файл-вкладыш тип 3 | H17: 22.29.25.000-070 | I17: 604.05 | J17: 607.45 | K17: 618.9 | O17: 764.1 | P17: =I17+J17+K17+L17+M17+N17 -> 1830.4 | Q17: 10 | R17: 3 | S17: =IF(ISERR(AVERAGE(I17:N17)),"",AVERAGE(I17:N17)) -> 610.13 | T17: =IF(ISERR(STDEV(I17:N17)),"",STDEV(I17:N17)) -> 7.78 | U17: =IF(ISERR(T17/S17),"",T17/S17) -> 0.013 | V17: =MIN(O17,S17) -> 610.13 | W17: =V17*Q17 -> 6101.3 | X17: 610 | Y17: =K17*Q17 -> 6189 | AG17: =I17*Q17 -> 6040.5 | AH17: =J17*Q17 -> 6074.5 | AI17: =K17*Q17 -> 6189 | AK17: 5.93
F18: 13 | G18: Ножницы канцелярские тип 1 | H18: 25.71.11.120-001 | I18: 112.6 | J18: 113.85 | K18: 118.4 | O18: 305.07 | P18: =I18+J18+K18+L18+M18+N18 -> 344.85 | Q18: 10 | R18: 3 | S18: =IF(ISERR(AVERAGE(I18:N18)),"",AVERAGE(I18:N18)) -> 114.95 | T18: =IF(ISERR(STDEV(I18:N18)),"",STDEV(I18:N18)) -> 3.05 | U18: =IF(ISERR(T18/S18),"",T18/S18) -> 0.027 | V18: =MIN(O18,S18) -> 114.95 | W18: =V18*Q18 -> 1149.5 | X18: 115 | Y18: =K18*Q18 -> 1184 | AG18: =I18*Q18 -> 1126 | AH18: =J18*Q18 -> 1138.5 | AI18: =K18*Q18 -> 1184 | AK18: 2.32
F19: 14 | G19: Папка пластиковая тип 9 | H19: 22.29.25.000-055 | I19: 39.01 | J19: 39.55 | K19: 41.4 | O19: 38.53 | P19: =I19+J19+K19+L19+M19+N19 -> 119.96 | Q19: 50 | R19: 3 | S19: =IF(ISERR(AVERAGE(I19:N19)),"",AVERAGE(I19:N19)) -> 39.99 | T19: =IF(ISERR(STDEV(I19:N19)),"",STDEV(I19:N19)) -> 1.25 | U19: =IF(ISERR(T19/S19),"",T19/S19) -> 0.031 | V19: =MIN(O19,S19) -> 38.53 | W19: =V19*Q19 -> 1926.5 | X19: 40 | Y19: =K19*Q19 -> 2070 | AG19: =I19*Q19 -> 1950.5 | AH19: =J19*Q19 -> 1977.5 | AI19: =K19*Q19 -> 2070 | AK19: 0.99
F20: 15 | G20: Папка пластиковая тип 15 | H20: 22.29.25.000-036 | I20: 56.31 | J20: 58.1 | K20: 65.54 | O20: 65 | P20: =I20+J20+K20+L20+M20+N20 -> 179.95 | Q20: 50 | R20: 3 | S20: =IF(ISERR(AVERAGE(I20:N20)),"",AVERAGE(I20:N20)) -> 59.98 | T20: =IF(ISERR(STDEV(I20:N20)),"",STDEV(I20:N20)) -> 4.89 | U20: =IF(ISERR(T20/S20),"",T20/S20) -> 0.082 | V20: =MIN(O20,S20) -> 59.98 | W20: =V20*Q20 -> 2999 | X20: 60 | Y20: =K20*Q20 -> 3277 | AG20: =I20*Q20 -> 2815.5 | AH20: =J20*Q20 -> 2905 | AI20: =K20*Q20 -> 3277 | AK20: 3.69
F21: 16 | G21: Папка картонная тип 6 | H21: 17.23.13.193-006 | I21: 307.55 | J21: 308.75 | K21: 313.6 | O21: 375.51 | P21: =I21+J21+K21+L21+M21+N21 -> 929.9 | Q21: 50 | R21: 3 | S21: =IF(ISERR(AVERAGE(I21:N21)),"",AVERAGE(I21:N21)) -> 309.97 | T21: =IF(ISERR(STDEV(I21:N21)),"",STDEV(I21:N21)) -> 3.2 | U21: =IF(ISERR(T21/S21),"",T21/S21) -> 0.01 | V21: =MIN(O21,S21) -> 309.97 | W21: =V21*Q21 -> 15498.5 | X21: 310 | Y21: =K21*Q21 -> 15680 | AG21: =I21*Q21 -> 15377.5 | AH21: =J21*Q21 -> 15437.5 | AI21: =K21*Q21 -> 15680 | AK21: 2.45
F22: 17 | G22: Разделитель листов пластиковый тип 1 (алфавит) | H22: 22.29.25.000-048 | I22: 217.88 | J22: 218.94 | K22: 223.1 | O22: 245.07 | P22: =I22+J22+K22+L22+M22+N22 -> 659.92 | Q22: 30 | R22: 3 | S22: =IF(ISERR(AVERAGE(I22:N22)),"",AVERAGE(I22:N22)) -> 219.97 | T22: =IF(ISERR(STDEV(I22:N22)),"",STDEV(I22:N22)) -> 2.76 | U22: =IF(ISERR(T22/S22),"",T22/S22) -> 0.013 | V22: =MIN(O22,S22) -> 219.97 | W22: =V22*Q22 -> 6599.1 | X22: 220 | Y22: =K22*Q22 -> 6693 | AG22: =I22*Q22 -> 6536.4 | AH22: =J22*Q22 -> 6568.2 | AI22: =K22*Q22 -> 6693 | AK22: 2.12
F23: 18 | G23: Разделитель листов пластиковый тип 1 (цифра) | H23: 22.29.25.000-048 | I23: 217.88 | J23: 218.95 | K23: 223.1 | O23: 245.07 | P23: =I23+J23+K23+L23+M23+N23 -> 659.93 | Q23: 30 | R23: 3 | S23: =IF(ISERR(AVERAGE(I23:N23)),"",AVERAGE(I23:N23)) -> 219.98 | T23: =IF(ISERR(STDEV(I23:N23)),"",STDEV(I23:N23)) -> 2.76 | U23: =IF(ISERR(T23/S23),"",T23/S23) -> 0.013 | V23: =MIN(O23,S23) -> 219.98 | W23: =V23*Q23 -> 6599.4 | X23: 220 | Y23: =K23*Q23 -> 6693 | AG23: =I23*Q23 -> 6536.4 | AH23: =J23*Q23 -> 6568.5 | AI23: =K23*Q23 -> 6693 | AK23: 2.12
F24: 19 | G24: Ручка канцелярская тип 4 | H24: 32.99.12.110-009 | I24: 21.55 | J24: 21.76 | K24: 22.8 | O24: 53.01 | P24: =I24+J24+K24+L24+M24+N24 -> 66.11 | Q24: 240 | R24: 3 | S24: =IF(ISERR(AVERAGE(I24:N24)),"",AVERAGE(I24:N24)) -> 22.04 | T24: =IF(ISERR(STDEV(I24:N24)),"",STDEV(I24:N24)) -> 0.67 | U24: =IF(ISERR(T24/S24),"",T24/S24) -> 0.03 | V24: =MIN(O24,S24) -> 22.04 | W24: =V24*Q24 -> 5289.6 | X24: 22 | Y24: =K24*Q24 -> 5472 | AG24: =I24*Q24 -> 5172 | AH24: =J24*Q24 -> 5222.4 | AI24: =K24*Q24 -> 5472 | AK24: 0.48
... F37: 32 | G37: Зажим для бумаг №3 | H37: 25.99.23.000-016 | I37: 243.68 | J37: 246.8 | K37: 259.4 | O37: 195.15 | P37: =I37+J37+K37+L37+M37+N37 -> 749.88 | Q37: 15 | R37: 3 | S37: =IF(ISERR(AVERAGE(I37:N37)),"",AVERAGE(I37:N37)) -> 249.96 | T37: =IF(ISERR(STDEV(I37:N37)),"",STDEV(I37:N37)) -> 8.32 | U37: =IF(ISERR(T37/S37),"",T37/S37) -> 0.033 | V37: =MIN(O37,S37) -> 195.15 | W37: =V37*Q37 -> 2927.25 | X37: 250 | Y37: =K37*Q37 -> 3891 | AG37: =I37*Q37 -> 3655.2 | AH37: =J37*Q37 -> 3702 | AI37: =K37*Q37 -> 3891 | AK37: 6.32
F38: 33 | G38: Дырокол тип 3 | H38: 25.99.22.130-029 | I38: 380 | J38: 390 | K38: 420 | O38: 531.38 | P38: =I38+J38+K38+L38+M38+N38 -> 1190 | Q38: 15 | R38: 3 | S38: =IF(ISERR(AVERAGE(I38:N38)),"",AVERAGE(I38:N38)) -> 396.67 | T38: =IF(ISERR(STDEV(I38:N38)),"",STDEV(I38:N38)) -> 20.82 | U38: =IF(ISERR(T38/S38),"",T38/S38) -> 0.052 | V38: =MIN(O38,S38) -> 396.67 | W38: =V38*Q38 -> 5950.05 | X38: 48 | Y38: =K38*Q38 -> 6300 | AG38: =I38*Q38 -> 5700 | AH38: =J38*Q38 -> 5850 | AI38: =K38*Q38 -> 6300
F39: 23 | G39: Кнопки канцелярские 1 | O39: 154.09 | P39: =I39+J39+K39+L39+M39+N39 -> 0 | R39: 3 | S39: =IF(ISERR(AVERAGE(I39:N39)),"",AVERAGE(I39:N39)) | T39: =IF(ISERR(STDEV(I39:N39)),"",STDEV(I39:N39)) | U39: =IF(ISERR(T39/S39),"",T39/S39) | V39: =MIN(O39,S39) -> 154.09 | W39: =V39*Q39 -> 0 | X39: 380 | Y39: =K39*Q39 -> 0 | AG39: =I39*Q39 -> 0 | AH39: =J39*Q39 -> 0 | AI39: =K39*Q39 -> 0
F40: 24 | P40: =I40+J40+K40+L40+M40+N40 -> 0 | R40: 3 | S40: =IF(ISERR(AVERAGE(I40:N40)),"",AVERAGE(I40:N40)) | T40: =IF(ISERR(STDEV(I40:N40)),"",STDEV(I40:N40)) | U40: =IF(ISERR(T40/S40),"",T40/S40) | V40: =MIN(O40,S40) -> 0 | W40: =V40*Q40 -> 0 | X40: 90 | Y40: =K40*Q40 -> 0 | AG40: =I40*Q40 -> 0 | AH40: =J40*Q40 -> 0 | AI40: =K40*Q40 -> 0
F41: 25 | P41: =I41+J41+K41+L41+M41+N41 -> 0 | R41: 3 | S41: =IF(ISERR(AVERAGE(I41:N41)),"",AVERAGE(I41:N41)) | T41: =IF(ISERR(STDEV(I41:N41)),"",STDEV(I41:N41)) | U41: =IF(ISERR(T41/S41),"",T41/S41) | V41: =MIN(O41,S41) -> 0 | W41: =V41*Q41 -> 0 | Y41: =K41*Q41 -> 0 | AG41: =I41*Q41 -> 0 | AH41: =J41*Q41 -> 0 | AI41: =K41*Q41 -> 0
F42: 26 | P42: =I42+J42+K42+L42+M42+N42 -> 0 | R42: 3 | S42: =IF(ISERR(AVERAGE(I42:N42)),"",AVERAGE(I42:N42)) | T42: =IF(ISERR(STDEV(I42:N42)),"",STDEV(I42:N42)) | U42: =IF(ISERR(T42/S42),"",T42/S42) | V42: =MIN(O42,S42) -> 0 | W42: =V42*Q42 -> 0 | Y42: =K42*Q42 -> 0 | AG42: =I42*Q42 -> 0 | AH42: =J42*Q42 -> 0 | AI42: =K42*Q42 -> 0
F43: 27 | P43: =I43+J43+K43+L43+M43+N43 -> 0 | R43: 3 | S43: =IF(ISERR(AVERAGE(I43:N43)),"",AVERAGE(I43:N43)) | T43: =IF(ISERR(STDEV(I43:N43)),"",STDEV(I43:N43)) | U43: =IF(ISERR(T43/S43),"",T43/S43) | V43: =MIN(O43,S43) -> 0 | W43: =V43*Q43 -> 0 | Y43: =K43*Q43 -> 0 | AG43: =I43*Q43 -> 0 | AH43: =J43*Q43 -> 0 | AI43: =K43*Q43 -> 0
F44: 28 | P44: =I44+J44+K44+L44+M44+N44 -> 0 | R44: 3 | S44: =IF(ISERR(AVERAGE(I44:N44)),"",AVERAGE(I44:N44)) | T44: =IF(ISERR(STDEV(I44:N44)),"",STDEV(I44:N44)) | U44: =IF(ISERR(T44/S44),"",T44/S44) | V44: =MIN(O44,S44) -> 0 | W44: =V44*Q44 -> 0 | Y44: =K44*Q44 -> 0 | AG44: =I44*Q44 -> 0 | AH44: =J44*Q44 -> 0 | AI44: =K44*Q44 -> 0
F45: 29 | P45: =I45+J45+K45+L45+M45+N45 -> 0 | R45: 3 | S45: =IF(ISERR(AVERAGE(I45:N45)),"",AVERAGE(I45:N45)) | T45: =IF(ISERR(STDEV(I45:N45)),"",STDEV(I45:N45)) | U45: =IF(ISERR(T45/S45),"",T45/S45) | V45: =MIN(O45,S45) -> 0 | W45: =V45*Q45 -> 0 | Y45: =K45*Q45 -> 0 | AG45: =I45*Q45 -> 0 | AH45: =J45*Q45 -> 0 | AI45: =K45*Q45 -> 0
F46: 30 | P46: =I46+J46+K46+L46+M46+N46 -> 0 | R46: 3 | S46: =IF(ISERR(AVERAGE(I46:N46)),"",AVERAGE(I46:N46)) | T46: =IF(ISERR(STDEV(I46:N46)),"",STDEV(I46:N46)) | U46: =IF(ISERR(T46/S46),"",T46/S46) | V46: =MIN(O46,S46) -> 0 | W46: =V46*Q46 -> 0 | Y46: =K46*Q46 -> 0 | AG46: =I46*Q46 -> 0 | AH46: =J46*Q46 -> 0 | AI46: =K46*Q46 -> 0
F47: 13 | P47: =I47+J47+K47+L47+M47+N47 -> 0 | R47: 3 | S47: =IF(ISERR(AVERAGE(I47:N47)),"",AVERAGE(I47:N47)) | T47: =IF(ISERR(STDEV(I47:N47)),"",STDEV(I47:N47)) | U47: =IF(ISERR(T47/S47),"",T47/S47) | V47: =MIN(O47,S47) -> 0 | W47: =V47*Q47 -> 0 | Y47: =K47*Q47 -> 0 | AG47: =I47*Q47 -> 0 | AH47: =J47*Q47 -> 0 | AI47: =K47*Q47 -> 0
F48: 32 | P48: =I48+J48+K48+L48+M48+N48 -> 0 | R48: 3 | S48: =IF(ISERR(AVERAGE(I48:N48)),"",AVERAGE(I48:N48)) | T48: =IF(ISERR(STDEV(I48:N48)),"",STDEV(I48:N48)) | U48: =IF(ISERR(T48/S48),"",T48/S48) | V48: =MIN(O48,S48) -> 0 | W48: =V48*Q48 -> 0 | Y48: =K48*Q48 -> 0 | AG48: =I48*Q48 -> 0 | AH48: =J48*Q48 -> 0 | AI48: =K48*Q48 -> 0
F49: 14 | P49: =I49+J49+K49+L49+M49+N49 -> 0 | R49: 3 | S49: =IF(ISERR(AVERAGE(I49:N49)),"",AVERAGE(I49:N49)) | T49: =IF(ISERR(STDEV(I49:N49)),"",STDEV(I49:N49)) | U49: =IF(ISERR(T49/S49),"",T49/S49) | V49: =MIN(O49,S49) -> 0 | W49: =V49*Q49 -> 0 | Y49: =K49*Q49 -> 0 | AG49: =I49*Q49 -> 0 | AH49: =J49*Q49 -> 0 | AI49: =K49*Q49 -> 0
F50: 15 | P50: =I50+J50+K50+L50+M50+N50 -> 0 | R50: 3 | S50: =IF(ISERR(AVERAGE(I50:N50)),"",AVERAGE(I50:N50)) | T50: =IF(ISERR(STDEV(I50:N50)),"",STDEV(I50:N50)) | U50: =IF(ISERR(T50/S50),"",T50/S50) | V50: =MIN(O50,S50) -> 0 | W50: =V50*Q50 -> 0 | Y50: =K50*Q50 -> 0 | AG50: =I50*Q50 -> 0 | AH50: =J50*Q50 -> 0 | AI50: =K50*Q50 -> 0
F51: 16 | P51: =I51+J51+K51+L51+M51+N51 -> 0 | R51: 3 | S51: =IF(ISERR(AVERAGE(I51:N51)),"",AVERAGE(I51:N51)) | T51: =IF(ISERR(STDEV(I51:N51)),"",STDEV(I51:N51)) | U51: =IF(ISERR(T51/S51),"",T51/S51) | V51: =MIN(O51,S51) -> 0 | W51: =V51*Q51 -> 0 | Y51: =K51*Q51 -> 0 | AG51: =I51*Q51 -> 0 | AH51: =J51*Q51 -> 0 | AI51: =K51*Q51 -> 0
F52: 17 | P52: =I52+J52+K52+L52+M52+N52 -> 0 | R52: 3 | S52: =IF(ISERR(AVERAGE(I52:N52)),"",AVERAGE(I52:N52)) | T52: =IF(ISERR(STDEV(I52:N52)),"",STDEV(I52:N52)) | U52: =IF(ISERR(T52/S52),"",T52/S52) | V52: =MIN(O52,S52) -> 0 | W52: =V52*Q52 -> 0 | Y52: =K52*Q52 -> 0 | AG52: =I52*Q52 -> 0 | AH52: =J52*Q52 -> 0 | AI52: =K52*Q52 -> 0
F53: 18 | P53: =I53+J53+K53+L53+M53+N53 -> 0 | R53: 3 | S53: =IF(ISERR(AVERAGE(I53:N53)),"",AVERAGE(I53:N53)) | T53: =IF(ISERR(STDEV(I53:N53)),"",STDEV(I53:N53)) | U53: =IF(ISERR(T53/S53),"",T53/S53) | V53: =MIN(O53,S53) -> 0 | W53: =V53*Q53 -> 0 | Y53: =K53*Q53 -> 0 | AG53: =I53*Q53 -> 0 | AH53: =J53*Q53 -> 0 | AI53: =K53*Q53 -> 0
F54: 38 | P54: =I54+J54+K54+L54+M54+N54 -> 0 | S54: =IF(ISERR(AVERAGE(I54:N54)),"",AVERAGE(I54:N54)) | T54: =IF(ISERR(STDEV(I54:N54)),"",STDEV(I54:N54)) | U54: =IF(ISERR(T54/S54),"",T54/S54) | V54: =MIN(O54,S54) -> 0 | W54: =V54*Q54 -> 0
F55: 39 | P55: =I55+J55+K55+L55+M55+N55 -> 0 | R55: 3 | S55: =IF(ISERR(AVERAGE(I55:N55)),"",AVERAGE(I55:N55)) | T55: =IF(ISERR(STDEV(I55:N55)),"",STDEV(I55:N55)) | U55: =IF(ISERR(T55/S55),"",T55/S55) | V55: =MIN(O55,S55) -> 0 | W55: =V55*Q55 -> 0
F56: 40 | P56: =I56+J56+K56+L56+M56+N56 -> 0 | Q56: 1 | R56: 4 | S56: =IF(ISERR(AVERAGE(I56:N56)),"",AVERAGE(I56:N56)) | T56: =IF(ISERR(STDEV(I56:N56)),"",STDEV(I56:N56)) | U56: =IF(ISERR(T56/S56),"",T56/S56) | V56: =MIN(O56,S56) -> 0 | W56: =V56*Q56 -> 0
F57: 41 | P57: =I57+J57+K57+L57+M57+N57 -> 0 | R57: 3 | S57: =IF(ISERR(AVERAGE(I57:N57)),"",AVERAGE(I57:N57)) | T57: =IF(ISERR(STDEV(I57:N57)),"",STDEV(I57:N57)) | U57: =IF(ISERR(T57/S57),"",T57/S57) | V57: =MIN(O57,S57) -> 0 | W57: =V57*Q57 -> 0
F58: 42 | P58: =I58+J58+K58+L58+M58+N58 -> 0 | R58: 3 | S58: =IF(ISERR(AVERAGE(I58:N58)),"",AVERAGE(I58:N58)) | T58: =IF(ISERR(STDEV(I58:N58)),"",STDEV(I58:N58)) | U58: =IF(ISERR(T58/S58),"",T58/S58) | V58: =MIN(O58,S58) -> 0 | W58: =V58*Q58 -> 0
F59: 19 | P59: =I59+J59+K59+L59+M59+N59 -> 0 | S59: =IF(ISERR(AVERAGE(I59:N59)),"",AVERAGE(I59:N59)) | T59: =IF(ISERR(STDEV(I59:N59)),"",STDEV(I59:N59)) | U59: =IF(ISERR(T59/S59),"",T59/S59) | V59: =MIN(O59,S59) -> 0 | W59: =V59*Q59 -> 0
A61: 1КТРУ – каталог товаров, работ, услуг – систематизированный перечень ТРУ, включающий в себя информацию в соответствии с Правилами формирования и ведения в единой информационной системе в сфере закупок КТРУ и Правилами использования КТРУ, утвержденными постановлением Правительства РФ от 08.02.2017 №145. | F61: Начальная (максимальная) цена контракта (НМЦК) | W61: =SUM(W6:W60) -> 209990.26
W62: 216587.35
W63: =' НМЦК 2 желтый'!Q36+' НМЦК 3 зеленый'!Q34+'НМЦК 4 синий'!Q6 -> 231295.56
G64: * В соответствии с п. 2.1. приказа Минэкономразвития России от 02.10.2013 N 567 «Об утверждении Методических рекомендаций по применению методов определения начальной (максимальной) цены контракта, цены контракта, заключаемого с единственным поставщиком (подрядчиком, исполнителем)» в обосновании НМЦК, которое подлежит размещению в открытом доступе в сети "Интернет", не указываются наименования поставщиков (подрядчиков, исполнителей), представивших соответствующую информацию.
G65: **Реестр товаров содержит информацию в соответствии с распоряжением Комитета по государственному заказу СПб (КГЗ) от 24.08.2016 №160-р. Раскрытие информации об источниках формирования средних цен из Реестра товаров будет осуществляться КГЗ при осуществлении контрольными органами контрольных мероприятий в отношении заказчика.
G66: *** Предельная цена закупаемой продукции установлена в рамках нормирования в сфере закупок в соответствии с распоряжением Жилищного комитета от 27.06.2019 №1033 "Об утверждении Требований к закупаемым Жилищным комитетом, подведомственными ему государственными казенными учреждениями, государственными бюджетными учреждениями отдельным видам товаров, работ, услуг (в том числе предельных цен товаров, работ, услуг)».
G67: исп. ______________ Нестеренко А.И.
V70: =W6+W7+W8+W9+W10+W11+W12+W13+W14+W15+W16+W17+W18+W19+W20+W21+W22+W23 -> 143064.26

Sheet  НМЦК 2 желтый
A1: Обоснование и расчет НМЦК
A2: № п/п | B2: Наименование товара (работы, услуги) | C2: Номер источника ценовой информации (ИЦИ №i)* и цена единицы товара, работы, услуги, представленная i-тым ИЦИ (Цi), руб. | H2: Средняя цена из Реестра товаров**, включая НДС, руб. на 01.04.2023 | I2: предельная цена единицы товара, работы, услуги, установленная в рамках нормирования в сфере закупок*** | K2: v - кол-во (объем) закупаемого товара (работы, услуги), ед. | L2: n - кол-во значений, используемых в расчете | M2: Определение однородности совокупности значений выявленных цен | P2: Цена единицы продукции, принятая для расчета НМЦК | Q2: НМЦК, руб.
C3: ИЦИ №1 | D3: ИЦИ №2 | E3: ИЦИ №3 | F3: ИЦИ №4 | G3: ИЦИ №5 | M3: <ц> - средн. арифм. величина цены единицы прод-ции, руб. | N3: Среднее квадратичное отклонение | O3: V - коэф-нт вариации (не должен превышать 33%)
A4: 1 | B4: 2 | C4: 3 | D4: 4 | E4: 5 | F4: 6 | G4: 7 | H4: 8а | I4: 8б | J4: 9=3+4+5+6+7+8а | K4: 10 | L4: 11 = кол-во ИЦИ | M4: 12= /n | N4: 13 | O4: 14 | P4: 12а | Q4: 15=12а*10
A5: 1 | B5: Ежедневник | C5: 566.77 | D5: 573.39 | E5: 599.85 | I5: 942.67 | J5: =C5+D5+E5+F5+G5+H5 -> 1740.01 | K5: 30 | L5: 3 | M5: =IF(ISERR(AVERAGE(C5:H5)),"",AVERAGE(C5:H5)) -> 580 | N5: =IF(ISERR(STDEV(C5:H5)),"",STDEV(C5:H5)) -> 17.5 | O5: =IF(ISERR(N5/M5),"",N5/M5) -> 0.03 | P5: =MIN(I5,M5) -> 580 | Q5: =P5*K5 -> 17400 | R5: =D5*K5 -> 17201.7
A6: 2 | B6: Блоки для записей | C6: 55.6 | D6: 57.8 | E6: 66.55 | I6: 146.5 | J6: =C6+D6+E6+F6+G6+H6 -> 179.95 | K6: 90 | L6: 3 | M6: =IF(ISERR(AVERAGE(C6:H6)),"",AVERAGE(C6:H6)) -> 59.98 | N6: =IF(ISERR(STDEV(C6:H6)),"",STDEV(C6:H6)) -> 5.79 | O6: =IF(ISERR(N6/M6),"",N6/M6) -> 0.097 | P6: =MIN(I6,M6) -> 59.98 | Q6: =P6*K6 -> 5398.2 | R6: =D6*K6 -> 5202
A7: 3 | B7: Блоки для записей | C7: 75.2 | D7: 76.61 | E7: 82.14 | I7: 136.94 | J7: =C7+D7+E7+F7+G7+H7 -> 233.95 | K7: 90 | L7: 3 | M7: =IF(ISERR(AVERAGE(C7:H7)),"",AVERAGE(C7:H7)) -> 77.98 | N7: =IF(ISERR(STDEV(C7:H7)),"",STDEV(C7:H7)) -> 3.67 | O7: =IF(ISERR(N7/M7),"",N7/M7) -> 0.047 | P7: =MIN(I7,M7) -> 77.98 | Q7: =P7*K7 -> 7018.2 | R7: =D7*K7 -> 6894.9
A8: 4 | B8: Блоки для записей | C8: 98.67 | D8: 99.34 | E8: 102 | I8: 159.71 | J8: =C8+D8+E8+F8+G8+H8 -> 300.01 | K8: 50 | L8: 3 | M8: =IF(ISERR(AVERAGE(C8:H8)),"",AVERAGE(C8:H8)) -> 100 | N8: =IF(ISERR(STDEV(C8:H8)),"",STDEV(C8:H8)) -> 1.76 | O8: =IF(ISERR(N8/M8),"",N8/M8) -> 0.018 | P8: =MIN(I8,M8) -> 100 | Q8: =P8*K8 -> 5000 | R8: =D8*K8 -> 4967
A9: 5 | B9: Клейкие закладки бумажные | C9: 71.72 | D9: 73.35 | E9: 79.9 | I9: 203.03 | J9: =C9+D9+E9+F9+G9+H9 -> 224.97 | K9: 80 | L9: 3 | M9: =IF(ISERR(AVERAGE(C9:H9)),"",AVERAGE(C9:H9)) -> 74.99 | N9: =IF(ISERR(STDEV(C9:H9)),"",STDEV(C9:H9)) -> 4.33 | O9: =IF(ISERR(N9/M9),"",N9/M9) -> 0.058 | P9: =MIN(I9,M9) -> 74.99 | Q9: =P9*K9 -> 5999.2 | R9: =D9*K9 -> 5868
A10: 6 | B10: Клейкие закладки пластиковые | C10: 139.71 | D10: 139.85 | E10: 140.55 | I10: 259.11 | J10: =C10+D10+E10+F10+G10+H10 -> 420.11 | K10: 80 | L10: 3 | M10: =IF(ISERR(AVERAGE(C10:H10)),"",AVERAGE(C10:H10)) -> 140.04 | N10: =IF(ISERR(STDEV(C10:H10)),"",STDEV(C10:H10)) -> 0.45 | O10: =IF(ISERR(N10/M10),"",N10/M10) -> 0.003 | P10: =MIN(I10,M10) -> 140.04 | Q10: =P10*K10 -> 11203.2 | R10: =D10*K10 -> 11188
A11: 7 | B11: Клейкие закладки пластиковые | C11: 63.43 | D11: 64.2 | E11: 67.35 | I11: 104.2 | J11: =C11+D11+E11+F11+G11+H11 -> 194.98 | K11: 80 | L11: 3 | M11: =IF(ISERR(AVERAGE(C11:H11)),"",AVERAGE(C11:H11)) -> 64.99 | N11: =IF(ISERR(STDEV(C11:H11)),"",STDEV(C11:H11)) -> 2.08 | O11: =IF(ISERR(N11/M11),"",N11/M11) -> 0.032 | P11: =MIN(I11,M11) -> 64.99 | Q11: =P11*K11 -> 5199.2 | R11: =D11*K11 -> 5136
A12: 8 | B12: Средство корректирующее канцелярское | C12: 39.1 | D12: 39.55 | E12: 41.3 | I12: 83.71 | J12: =C12+D12+E12+F12+G12+H12 -> 119.95 | K12: 50 | L12: 3 | M12: =IF(ISERR(AVERAGE(C12:H12)),"",AVERAGE(C12:H12)) -> 39.98 | N12: =IF(ISERR(STDEV(C12:H12)),"",STDEV(C12:H12)) -> 1.16 | O12: =IF(ISERR(N12/M12),"",N12/M12) -> 0.029 | P12: =MIN(I12,M12) -> 39.98 | Q12: =P12*K12 -> 1999 | R12: =D12*K12 -> 1977.5
A13: 9 | B13: Папка пластиковая | C13: 91 | D13: 89.56 | E13: 90.28 | I13: 90.28 | J13: =C13+D13+E13+F13+G13+H13 -> 270.84 | K13: 57 | L13: 3 | M13: =IF(ISERR(AVERAGE(C13:H13)),"",AVERAGE(C13:H13)) -> 90.28 | N13: =IF(ISERR(STDEV(C13:H13)),"",STDEV(C13:H13)) -> 0.72 | O13: =IF(ISERR(N13/M13),"",N13/M13) -> 0.008 | P13: =MIN(I13,M13) -> 90.28 | Q13: =P13*K13 -> 5145.96 | R13: =D13*K13 -> 5104.92
A14: 10 | B14: Папка пластиковая | C14: 12.45 | D14: 13.65 | E14: 16.3 | I14: 34.34 | J14: =C14+D14+E14+F14+G14+H14 -> 42.4 | K14: 200 | L14: 3 | M14: =IF(ISERR(AVERAGE(C14:H14)),"",AVERAGE(C14:H14)) -> 14.13 | N14: =IF(ISERR(STDEV(C14:H14)),"",STDEV(C14:H14)) -> 1.97 | O14: =IF(ISERR(N14/M14),"",N14/M14) -> 0.139 | P14: =MIN(I14,M14) -> 14.13 | Q14: =P14*K14 -> 2826 | R14: =D14*K14 -> 2730
A15: 11 | B15: Файл-вкладыш | C15: 340.3 | D15: 345.3 | E15: 364.45 | I15: 547.37 | J15: =C15+D15+E15+F15+G15+H15 -> 1050.05 | K15: 100 | L15: 3 | M15: =IF(ISERR(AVERAGE(C15:H15)),"",AVERAGE(C15:H15)) -> 350.02 | N15: =IF(ISERR(STDEV(C15:H15)),"",STDEV(C15:H15)) -> 12.75 | O15: =IF(ISERR(N15/M15),"",N15/M15) -> 0.036 | P15: =MIN(I15,M15) -> 350.02 | Q15: =P15*K15 -> 35002 | R15: =D15*K15 -> 34530
A16: 12 | B16: Файл-вкладыш | C16: 604.05 | D16: 607.45 | E16: 618.9 | I16: 764.1 | J16: =C16+D16+E16+F16+G16+H16 -> 1830.4 | K16: 10 | L16: 3 | M16: =IF(ISERR(AVERAGE(C16:H16)),"",AVERAGE(C16:H16)) -> 610.13 | N16: =IF(ISERR(STDEV(C16:H16)),"",STDEV(C16:H16)) -> 7.78 | O16: =IF(ISERR(N16/M16),"",N16/M16) -> 0.013 | P16: =MIN(I16,M16) -> 610.13 | Q16: =P16*K16 -> 6101.3 | R16: =D16*K16 -> 6074.5
... A18: 14 | B18: Папка пластиковая | C18: 39 | D18: 38.06 | E18: 38.53 | I18: 38.53 | J18: =C18+D18+E18+F18+G18+H18 -> 115.59 | K18: 50 | L18: 3 | M18: =IF(ISERR(AVERAGE(C18:H18)),"",AVERAGE(C18:H18)) -> 38.53 | N18: =IF(ISERR(STDEV(C18:H18)),"",STDEV(C18:H18)) -> 0.47 | O18: =IF(ISERR(N18/M18),"",N18/M18) -> 0.012 | P18: =MIN(I18,M18) -> 38.53 | Q18: =P18*K18 -> 1926.5 | R18: =D18*K18 -> 1903
A19: 14 | B19: Папка пластиковая | C19: 56.31 | D19: 58.1 | E19: 65.54 | I19: 65 | J19: =C19+D19+E19+F19+G19+H19 -> 179.95 | K19: 50 | L19: 3 | M19: =IF(ISERR(AVERAGE(C19:H19)),"",AVERAGE(C19:H19)) -> 59.98 | N19: =IF(ISERR(STDEV(C19:H19)),"",STDEV(C19:H19)) -> 4.89 | O19: =IF(ISERR(N19/M19),"",N19/M19) -> 0.082 | P19: =MIN(I19,M19) -> 59.98 | Q19: =P19*K19 -> 2999 | R19: =C19*K19 -> 2815.5
A20: 15 | B20: Папка картонная | C20: 307.55 | D20: 308.75 | E20: 313.6 | I20: 375.51 | J20: =C20+D20+E20+F20+G20+H20 -> 929.9 | K20: 50 | L20: 3 | M20: =IF(ISERR(AVERAGE(C20:H20)),"",AVERAGE(C20:H20)) -> 309.97 | N20: =IF(ISERR(STDEV(C20:H20)),"",STDEV(C20:H20)) -> 3.2 | O20: =IF(ISERR(N20/M20),"",N20/M20) -> 0.01 | P20: =MIN(I20,M20) -> 309.97 | Q20: =P20*K20 -> 15498.5 | R20: =C20*K20 -> 15377.5
A21: 16 | B21: Разделитель листов пластиковый | C21: 217.88 | D21: 218.94 | E21: 223.1 | I21: 245.07 | J21: =C21+D21+E21+F21+G21+H21 -> 659.92 | K21: 30 | L21: 3 | M21: =IF(ISERR(AVERAGE(C21:H21)),"",AVERAGE(C21:H21)) -> 219.97 | N21: =IF(ISERR(STDEV(C21:H21)),"",STDEV(C21:H21)) -> 2.76 | O21: =IF(ISERR(N21/M21),"",N21/M21) -> 0.013 | P21: =MIN(I21,M21) -> 219.97 | Q21: =P21*K21 -> 6599.1 | R21: =C21*K21 -> 6536.4
A22: 18 | B22: Разделитель листов пластиковый | C22: 217.88 | D22: 218.95 | E22: 223.1 | I22: 242.7 | J22: =C22+D22+E22+F22+G22+H22 -> 659.93 | K22: 30 | L22: 3 | M22: =IF(ISERR(AVERAGE(C22:H22)),"",AVERAGE(C22:H22)) -> 219.98 | N22: =IF(ISERR(STDEV(C22:H22)),"",STDEV(C22:H22)) -> 2.76 | O22: =IF(ISERR(N22/M22),"",N22/M22) -> 0.013 | P22: =MIN(I22,M22) -> 219.98 | Q22: =P22*K22 -> 6599.4 | R22: =C22*K22 -> 6536.4
A23: 19 | R23: =C23*K23 -> 0
A24: 20 | R24: =C24*K24 -> 0
A25: 21 | R25: =C25*K25 -> 0
A26: 22 | R26: =C26*K26 -> 0
A27: 23 | R27: =C27*K27 -> 0
A28: 24 | R28: =C28*K28 -> 0
A29: 25 | R29: =C29*K29 -> 0
A30: 26 | R30: =C30*K30 -> 0
A31: 27 | R31: =C31*K31 -> 0
A32: 28 | R32: =C32*K32 -> 0
A33: 29 | R33: =C33*K33 -> 0
A34: 30 | R34: =C34*K34 -> 0
A36: Начальная (максимальная) цена контракта (НМЦК) | Q36: =SUM(Q5:Q35) -> 143064.26
B37: * В соответствии с п. 2.1. приказа Минэкономразвития России от 02.10.2013 N 567 «Об утверждении Методических рекомендаций по применению методов определения начальной (максимальной) цены контракта, цены контракта, заключаемого с единственным поставщиком (подрядчиком, исполнителем)» в обосновании НМЦК, которое подлежит размещению в открытом доступе в сети "Интернет", не указываются наименования поставщиков (подрядчиков, исполнителей), представивших соответствующую информацию.
B38: **Реестр товаров содержит информацию в соответствии с распоряжением Комитета по государственному заказу СПб (КГЗ) от 24.08.2016 №160-р. Раскрытие информации об источниках формирования средних цен из Реестра товаров будет осуществляться КГЗ при осуществлении контрольными органами контрольных мероприятий в отношении заказчика.
B39: *** Предельная цена закупаемой продукции установлена в рамках нормирования в сфере закупок в соответствии с распоряжением Жилищного комитета от 27.06.2019 №1033 "Об утверждении Требований к закупаемым Жилищным комитетом, подведомственными ему государственными казенными учреждениями, государственными бюджетными учреждениями отдельным видам товаров, работ, услуг (в том числе предельных цен товаров, работ, услуг)».
B40: Исп. А.И. Нестеренко_______
Q41: =Q5+Q6+Q7+Q8+Q9+Q10+Q11+Q12+Q13+Q14+Q15+Q16+Q17+Q18+Q19+Q20+Q21+Q22 -> 143064.26

Sheet  НМЦК 3 зеленый
A1: Обоснование и расчет НМЦК
A2: № п/п | B2: Наименование товара (работы, услуги) | C2: Номер источника ценовой информации (ИЦИ №i)* и цена единицы товара, работы, услуги, представленная i-тым ИЦИ (Цi), руб. | H2: Средняя цена из Реестра товаров**, включая НДС, руб. на 01.04.203 | I2: предельная цена единицы товара, работы, услуги, установленная в рамках нормирования в сфере закупок*** | K2: v - кол-во (объем) закупаемого товара (работы, услуги), ед. | L2: n - кол-во значений, используемых в расчете | M2: Определение однородности совокупности значений выявленных цен | P2: Цена единицы продукции, принятая для расчета НМЦК | Q2: НМЦК, руб.
C3: ИЦИ №1 | D3: ИЦИ №2 | E3: ИЦИ №3 | F3: ИЦИ №4 | G3: ИЦИ №5 | M3: <ц> - средн. арифм. величина цены единицы прод-ции, руб. | N3: Среднее квадратичное отклонение | O3: V - коэф-нт вариации (не должен превышать 33%)
A4: 1 | B4: 2 | C4: 3 | D4: 4 | E4: 5 | F4: 6 | G4: 7 | H4: 8а | I4: 8б | J4: 9=3+4+5+6+7+8а | K4: 10 | L4: 11 = кол-во ИЦИ | M4: 12= /n | N4: 13 | O4: 14 | P4: 12а | Q4: 15=12а*10
A5: 1 | B5: Скрепки металические | C5: 34.43 | D5: 34.75 | E5: 35.86 | I5: 73.87 | J5: =C5+D5+E5+F5+G5+H5 -> 105.04 | K5: 100 | L5: 3 | M5: =IF(ISERR(AVERAGE(C5:H5)),"",AVERAGE(C5:H5)) -> 35.01 | N5: =IF(ISERR(STDEV(C5:H5)),"",STDEV(C5:H5)) -> 0.75 | O5: =IF(ISERR(N5/M5),"",N5/M5) -> 0.021 | P5: =MIN(I5,M5) -> 35.01 | Q5: =P5*K5 -> 3501 | R5: =E5*K5 -> 3586
A6: 2 | B6: Степлер №5 | C6: 297.75 | D6: 298.8 | E6: 303.44 | I6: 675.25 | J6: =C6+D6+E6+F6+G6+H6 -> 899.99 | K6: 20 | L6: 3 | M6: =IF(ISERR(AVERAGE(C6:H6)),"",AVERAGE(C6:H6)) -> 300 | N6: =IF(ISERR(STDEV(C6:H6)),"",STDEV(C6:H6)) -> 3.03 | O6: =IF(ISERR(N6/M6),"",N6/M6) -> 0.01 | P6: =MIN(I6,M6) -> 300 | Q6: =P6*K6 -> 6000 | R6: =E6*K6 -> 6068.8
A7: 3 | B7: Степлер №2 | C7: 149.68 | D7: 149.85 | E7: 150.4 | I7: 240.11 | J7: =C7+D7+E7+F7+G7+H7 -> 449.93 | K7: 20 | L7: 3 | M7: =IF(ISERR(AVERAGE(C7:H7)),"",AVERAGE(C7:H7)) -> 149.98 | N7: =IF(ISERR(STDEV(C7:H7)),"",STDEV(C7:H7)) -> 0.38 | O7: =IF(ISERR(N7/M7),"",N7/M7) -> 0.003 | P7: =MIN(I7,M7) -> 149.98 | Q7: =P7*K7 -> 2999.6 | R7: =E7*K7 -> 3008
A8: 4 | B8: Зажим для бумаг | C8: 34.57 | D8: 34.78 | E8: 35.6 | I8: 61.88 | J8: =C8+D8+E8+F8+G8+H8 -> 104.95 | K8: 80 | L8: 3 | M8: =IF(ISERR(AVERAGE(C8:H8)),"",AVERAGE(C8:H8)) -> 34.98 | N8: =IF(ISERR(STDEV(C8:H8)),"",STDEV(C8:H8)) -> 0.54 | O8: =IF(ISERR(N8/M8),"",N8/M8) -> 0.015 | P8: =MIN(I8,M8) -> 34.98 | Q8: =P8*K8 -> 2798.4 | R8: =E8*K8 -> 2848
A9: 5 | B9: Скобы для степлера | C9: 39.62 | D9: 39.81 | E9: 40.55 | I9: 46.88 | J9: =C9+D9+E9+F9+G9+H9 -> 119.98 | K9: 80 | L9: 3 | M9: =IF(ISERR(AVERAGE(C9:H9)),"",AVERAGE(C9:H9)) -> 39.99 | N9: =IF(ISERR(STDEV(C9:H9)),"",STDEV(C9:H9)) -> 0.49 | O9: =IF(ISERR(N9/M9),"",N9/M9) -> 0.012 | P9: =MIN(I9,M9) -> 39.99 | Q9: =P9*K9 -> 3199.2 | R9: =E9*K9 -> 3244
A10: 6 | B10: Скобы для степлера | C10: 28.84 | D10: 29.45 | E10: 31.74 | I10: 83.15 | J10: =C10+D10+E10+F10+G10+H10 -> 90.03 | K10: 80 | L10: 3 | M10: =IF(ISERR(AVERAGE(C10:H10)),"",AVERAGE(C10:H10)) -> 30.01 | N10: =IF(ISERR(STDEV(C10:H10)),"",STDEV(C10:H10)) -> 1.53 | O10: =IF(ISERR(N10/M10),"",N10/M10) -> 0.051 | P10: =MIN(I10,M10) -> 30.01 | Q10: =P10*K10 -> 2400.8 | R10: =E10*K10 -> 2539.2
A11: 7 | B11: Зажим для бумаг №3 | C11: 243.68 | D11: 246.8 | E11: 259.4 | I11: 195.15 | J11: =C11+D11+E11+F11+G11+H11 -> 749.88 | K11: 15 | L11: 3 | M11: =IF(ISERR(AVERAGE(C11:H11)),"",AVERAGE(C11:H11)) -> 249.96 | N11: =IF(ISERR(STDEV(C11:H11)),"",STDEV(C11:H11)) -> 8.32 | O11: =IF(ISERR(N11/M11),"",N11/M11) -> 0.033 | P11: =MIN(I11,M11) -> 195.15 | Q11: =P11*K11 -> 2927.25 | R11: =E11*K11 -> 3891
A12: 8 | B12: Дырокол 3 | C12: 380 | D12: 390 | E12: 420 | I12: 531.38 | J12: =C12+D12+E12+F12+G12+H12 -> 1190 | K12: 15 | L12: 3 | M12: =IF(ISERR(AVERAGE(C12:H12)),"",AVERAGE(C12:H12)) -> 396.67 | N12: =IF(ISERR(STDEV(C12:H12)),"",STDEV(C12:H12)) -> 20.82 | O12: =IF(ISERR(N12/M12),"",N12/M12) -> 0.052 | P12: =MIN(I12,M12) -> 396.67 | Q12: =P12*K12 -> 5950.05
A13: 10 | B13: Клейкие закладки пластиковые тип 1 | J13: =C13+D13+E13+F13+G13+H13 -> 0 | K13: 50 | L13: 3 | M13: =IF(ISERR(AVERAGE(C13:H13)),"",AVERAGE(C13:H13)) | N13: =IF(ISERR(STDEV(C13:H13)),"",STDEV(C13:H13)) | O13: =IF(ISERR(N13/M13),"",N13/M13) | P13: =MIN(I13,M13) -> 0 | Q13: =P13*K13 -> 0
A14: 11 | B14: Папка пластиковая тип 19 | J14: =C14+D14+E14+F14+G14+H14 -> 0 | K14: 200 | L14: 3 | M14: =IF(ISERR(AVERAGE(C14:H14)),"",AVERAGE(C14:H14)) | N14: =IF(ISERR(STDEV(C14:H14)),"",STDEV(C14:H14)) | O14: =IF(ISERR(N14/M14),"",N14/M14) | P14: =MIN(I14,M14) -> 0 | Q14: =P14*K14 -> 0
A15: 12 | B15: Папка пластиковая тип 28 | J15: =C15+D15+E15+F15+G15+H15 -> 0 | K15: 200 | L15: 3 | M15: =IF(ISERR(AVERAGE(C15:H15)),"",AVERAGE(C15:H15)) | N15: =IF(ISERR(STDEV(C15:H15)),"",STDEV(C15:H15)) | O15: =IF(ISERR(N15/M15),"",N15/M15) | P15: =MIN(I15,M15) -> 0 | Q15: =P15*K15 -> 0
A16: 13 | B16: Файл-вкладыш тип 1 | J16: =C16+D16+E16+F16+G16+H16 -> 0 | K16: 100 | L16: 3 | M16: =IF(ISERR(AVERAGE(C16:H16)),"",AVERAGE(C16:H16)) | N16: =IF(ISERR(STDEV(C16:H16)),"",STDEV(C16:H16)) | O16: =IF(ISERR(N16/M16),"",N16/M16) | P16: =MIN(I16,M16) -> 0 | Q16: =P16*K16 -> 0
A17: 14 | B17: Файл-вкладыш тип 3 | J17: =C17+D17+E17+F17+G17+H17 -> 0 | K17: 10 | L17: 3 | M17: =IF(ISERR(AVERAGE(C17:H17)),"",AVERAGE(C17:H17)) | N17: =IF(ISERR(STDEV(C17:H17)),"",STDEV(C17:H17)) | O17: =IF(ISERR(N17/M17),"",N17/M17) | P17: =MIN(I17,M17) -> 0 | Q17: =P17*K17 -> 0
A18: 15 | B18: Ножницы канцелярские тип 1 | J18: =C18+D18+E18+F18+G18+H18 -> 0 | K18: 10 | L18: 3 | M18: =IF(ISERR(AVERAGE(C18:H18)),"",AVERAGE(C18:H18)) | N18: =IF(ISERR(STDEV(C18:H18)),"",STDEV(C18:H18)) | O18: =IF(ISERR(N18/M18),"",N18/M18) | P18: =MIN(I18,M18) -> 0 | Q18: =P18*K18 -> 0
A19: 16 | B19: Нож канцелярский тип 1 | J19: =C19+D19+E19+F19+G19+H19 -> 0 | K19: 10 | L19: 3 | M19: =IF(ISERR(AVERAGE(C19:H19)),"",AVERAGE(C19:H19)) | N19: =IF(ISERR(STDEV(C19:H19)),"",STDEV(C19:H19)) | O19: =IF(ISERR(N19/M19),"",N19/M19) | P19: =MIN(I19,M19) -> 0 | Q19: =P19*K19 -> 0
A20: 18 | B20: Степлер тип 1 | J20: =C20+D20+E20+F20+G20+H20 -> 0 | K20: 10 | L20: 3 | M20: =IF(ISERR(AVERAGE(C20:H20)),"",AVERAGE(C20:H20)) | N20: =IF(ISERR(STDEV(C20:H20)),"",STDEV(C20:H20)) | O20: =IF(ISERR(N20/M20),"",N20/M20) | P20: =MIN(I20,M20) -> 0 | Q20: =P20*K20 -> 0
A21: 19 | B21: Степлер тип 2 | J21: =C21+D21+E21+F21+G21+H21 -> 0 | K21: 10 | L21: 3 | M21: =IF(ISERR(AVERAGE(C21:H21)),"",AVERAGE(C21:H21)) | N21: =IF(ISERR(STDEV(C21:H21)),"",STDEV(C21:H21)) | O21: =IF(ISERR(N21/M21),"",N21/M21) | P21: =MIN(I21,M21) -> 0 | Q21: =P21*K21 -> 0
A22: 20 | B22: Зажим для бумаг тип 3 | J22: =C22+D22+E22+F22+G22+H22 -> 0 | K22: 100 | L22: 3 | M22: =IF(ISERR(AVERAGE(C22:H22)),"",AVERAGE(C22:H22)) | N22: =IF(ISERR(STDEV(C22:H22)),"",STDEV(C22:H22)) | O22: =IF(ISERR(N22/M22),"",N22/M22) | P22: =MIN(I22,M22) -> 0 | Q22: =P22*K22 -> 0
A23: 21 | B23: Скобы для степлера тип 1 | J23: =C23+D23+E23+F23+G23+H23 -> 0 | K23: 100 | L23: 3 | M23: =IF(ISERR(AVERAGE(C23:H23)),"",AVERAGE(C23:H23)) | N23: =IF(ISERR(STDEV(C23:H23)),"",STDEV(C23:H23)) | O23: =IF(ISERR(N23/M23),"",N23/M23) | P23: =MIN(I23,M23) -> 0 | Q23: =P23*K23 -> 0
A24: 22 | B24: Скобы для степлера тип 3 | J24: =C24+D24+E24+F24+G24+H24 -> 0 | K24: 100 | L24: 3 | M24: =IF(ISERR(AVERAGE(C24:H24)),"",AVERAGE(C24:H24)) | N24: =IF(ISERR(STDEV(C24:H24)),"",STDEV(C24:H24)) | O24: =IF(ISERR(N24/M24),"",N24/M24) | P24: =MIN(I24,M24) -> 0 | Q24: =P24*K24 -> 0
... A32: 30 | B32: Грамота тип 1 | J32: =C32+D32+E32+F32+G32+H32 -> 0 | K32: 25 | L32: 3 | M32: =IF(ISERR(AVERAGE(C32:H32)),"",AVERAGE(C32:H32)) | N32: =IF(ISERR(STDEV(C32:H32)),"",STDEV(C32:H32)) | O32: =IF(ISERR(N32/M32),"",N32/M32) | P32: =MIN(I32,M32) -> 0 | Q32: =P32*K32 -> 0
A34: Начальная (максимальная) цена контракта (НМЦК) | Q34: =SUM(Q5:Q33) -> 29776.3
B35: * В соответствии с п. 2.1. приказа Минэкономразвития России от 02.10.2013 N 567 «Об утверждении Методических рекомендаций по применению методов определения начальной (максимальной) цены контракта, цены контракта, заключаемого с единственным поставщиком (подрядчиком, исполнителем)» в обосновании НМЦК, которое подлежит размещению в открытом доступе в сети "Интернет", не указываются наименования поставщиков (подрядчиков, исполнителей), представивших соответствующую информацию.
B36: **Реестр товаров содержит информацию в соответствии с распоряжением Комитета по государственному заказу СПб (КГЗ) от 24.08.2016 №160-р. Раскрытие информации об источниках формирования средних цен из Реестра товаров будет осуществляться КГЗ при осуществлении контрольными органами контрольных мероприятий в отношении заказчика.
B37: *** Предельная цена закупаемой продукции установлена в рамках нормирования в сфере закупок в соответствии с распоряжением Жилищного комитета от 27.06.2019 №1033 "Об утверждении Требований к закупаемым Жилищным комитетом, подведомственными ему государственными казенными учреждениями, государственными бюджетными учреждениями отдельным видам товаров, работ, услуг (в том числе предельных цен товаров, работ, услуг)».
B38: Исп. А.И. Нестеренко_______

Sheet НМЦК 4 синий
A1: № п/п | B1: Наименование товара (работы, услуги) | D1: Номер источника ценовой информации (ИЦИ №i)* и цена единицы товара, работы, услуги, представленная i-тым ИЦИ (Цi), руб. | I1: Средняя цена из Реестра товаров**, включая НДС, руб. на 01.10.2024 | J1: предельная цена единицы товара, работы, услуги, установленная в рамках нормирования в сфере закупок*** | L1: v - кол-во (объем) закупаемого товара (работы, услуги), ед. | M1: n - кол-во значений, используемых в расчете | N1: Определение однородности совокупности значений выявленных цен | Q1: НМЦК, руб.
D2: ИЦИ №1 | E2: ИЦИ №2 | F2: ИЦИ №3 | G2: ИЦИ №4 | H2: ИЦИ №5 | N2: <ц> - средн. арифм. величина цены единицы прод-ции, руб. | O2: Среднее квадратичное отклонение | P2: V - коэф-нт вариации (не должен превышать 33%)
A3: 1 | B3: 2 | D3: 3 | E3: 4 | F3: 5 | G3: 6 | H3: 7 | I3: 8а | J3: 8б | K3: 9=3+4+5+6+7+8а | L3: 10 | M3: 11 = кол-во ИЦИ | N3: 12= /n | O3: 13 | P3: 14 | Q3: 15=12а*10
A4: 1 | B4: Бумага офисная в соответствии с ТЗ | D4: 380 | E4: 390.1 | F4: 399 | K4: =D4+E4+F4+G4+H4+I4 -> 1169.1 | L4: 150 | M4: 3 | N4: =IF(ISERR(AVERAGE(D4:I4)),"",AVERAGE(D4:I4)) -> 389.7 | O4: =IF(ISERR(STDEV(D4:I4)),"",STDEV(D4:I4)) -> 9.51 | P4: =IF(ISERR(O4/N4),"",O4/N4) -> 0.024 | Q4: =N4*L4 -> 58455
A6: Начальная (максимальная) цена контракта (НМЦК) | Q6: =SUM(Q4:Q5) -> 58455
B7: * В соответствии с п. 2.1. приказа Минэкономразвития России от 02.10.2013 N 567 «Об утверждении Методических рекомендаций по применению методов определения начальной (максимальной) цены контракта, цены контракта, заключаемого с единственным поставщиком (подрядчиком, исполнителем)» в обосновании НМЦК, которое подлежит размещению в открытом доступе в сети "Интернет", не указываются наименования поставщиков (подрядчиков, исполнителей), представивших соответствующую информацию.
B8: **Реестр товаров содержит информацию в соответствии с распоряжением Комитета по государственному заказу СПб (КГЗ) от 24.08.2016 №160-р. Раскрытие информации об источниках формирования средних цен из Реестра товаров будет осуществляться КГЗ при осуществлении контрольными органами контрольных мероприятий в отношении заказчика.
B9: *** Предельная цена закупаемой продукции установлена в рамках нормирования в сфере закупок в соответствии с распоряжением Жилищного комитета от 27.06.2019 №1033 "Об утверждении Требований к закупаемым Жилищным комитетом, подведомственными ему государственными казенными учреждениями, государственными бюджетными учреждениями отдельным видам товаров, работ, услуг (в том числе предельных цен товаров, работ, услуг)».
B10: Исп. А.Ф. Бердников_______

Sheet 2обосн НМЦК
A1: Обоснование начальной (максимальной) цены контракта (НМЦК)
A2: Закупка и поставка канцелярских товаров
C3: Анализ рынка (без РТ и без нормир)
A4: 1 | B4: Основные характеристики объекта закупки | C4: Указаны в приложении №1
A5: 2 | B5: Используемый метод определения начальной (максимальной) цены контракта | C5: Метод сопоставимых рыночных цен (анализ рынка) в соответствии со ст.22 Закона № 44-ФЗ с учетом Методических рекомендаций по применению методов определения НМЦК, утвержденных приказом МЭР России от 02.10.2013 № 567 (далее – Методические рекомендации №567)
A6: 3 | B6: Порядок формирования начальной (максимальной) цены контракта | C6: Применен п. 3.7 раздела III Методических рекомендаций №567
A7: 4 | B7: Начальная (максимальная) цена контракта, руб. (Обоснование и расчет представлены в Приложении №1.1) | C7: =' НМЦК 2 желтый'!Q36 -> 143064.26
A8: Дата подготовки обоснования НМЦК: ___.___. 2024г.
B10: Работник контрактной службы
A12: Начальник отдела закупок | C12: ___________ /Д.В. Саввин
B14: ___.___. 2024г.
B16: Исполнитель: А.И. Нестеренко контактный тел. 404-60-62

Sheet 3 обосн НМЦК
A1: Обоснование начальной (максимальной) цены контракта (НМЦК)
A2: Закупка и поставка канцелярских товаров
C3: Анализ рынка (без РТ и без нормир)
A4: 1 | B4: Основные характеристики объекта закупки | C4: Указаны в приложении №1
A5: 2 | B5: Используемый метод определения начальной (максимальной) цены контракта | C5: Метод сопоставимых рыночных цен (анализ рынка) в соответствии со ст.22 Закона № 44-ФЗ с учетом Методических рекомендаций по применению методов определения НМЦК, утвержденных приказом МЭР России от 02.10.2013 № 567 (далее – Методические рекомендации №567)
A6: 3 | B6: Порядок формирования начальной (максимальной) цены контракта | C6: Применен п. 3.7 раздела III Методических рекомендаций №567
A7: 4 | B7: Начальная (максимальная) цена контракта, руб. (Обоснование и расчет представлены в Приложении №1.1) | C7: =' НМЦК 3 зеленый'!Q34 -> 29776.3
A8: Дата подготовки обоснования НМЦК: ___.___. 2024г.
B10: Работник контрактной службы
A12: Начальник отдела закупок | C12: ___________ /Д.В. Саввин
B14: ___.___. 2024г.
B16: Исполнитель: А.И. Нестеренко контактный тел. 404-60-62

Sheet 4 обосн НМЦК
A1: Обоснование начальной (максимальной) цены договора (НМЦД)
A2: Закупка и поставка средств сантехники
C3: Анализ рынка (без РТ)
A4: 1 | B4: Основные характеристики объекта закупки | C4: Указаны в приложении №1
A5: 2 | B5: Используемый метод определения начальной (максимальной) цены контракта | C5: Метод сопоставимых рыночных цен (анализ рынка) в соответствии со ст.22 Закона № 44-ФЗ с учетом Методических рекомендаций по применению методов определения НМЦК, утвержденных приказом МЭР России от 02.10.2013 № 567 (далее – Методические рекомендации №567)
A6: 3 | B6: Порядок формирования начальной (максимальной) цены контракта | C6: Применен п. 3.7 раздела III Методических рекомендаций №567
A7: 4 | B7: Начальная (максимальная) цена контракта, руб. (Обоснование и расчет представлены в Приложении №1.1) | C7: ='НМЦК 4 синий'!Q6 -> 58455
A8: Дата подготовки обоснования НМЦК: ___.___. 2025г.
A10: Ведущий юрисконсульт | C10: Нестеренко А.И.
B12: ___.___. 2025г.
B14: Исполнитель: А.И. Нестеренко контактный тел. 404-60-62
